BEGIN:VCALENDAR
VERSION:2.0
PRODID:-//Sabre//Sabre VObject 4.5.8//EN
CALSCALE:GREGORIAN
BEGIN:VEVENT
UID:sabre-vobject-c84c14d3-ad3a-4733-8a4d-351d6743b82f
DTSTAMP:20260421T053544Z
SUMMARY:Ballett für Erwachsene Mittelstufe
DESCRIPTION:https://keb-stadt-augsburg.de/veranstaltungen/ballett-fuer-erwa
 chsene-mittelstufe_id298837
DTSTART;TZID=Europe/Berlin:20260714T184500
DTEND;TZID=Europe/Berlin:20260714T200000
LOCATION:Sportzentrum\, Pfarrer-Bogner-Straße 22\, 86199 Augsburg
END:VEVENT
END:VCALENDAR
