BEGIN:VCALENDAR
VERSION:2.0
PRODID:-//Sabre//Sabre VObject 4.5.8//EN
CALSCALE:GREGORIAN
BEGIN:VEVENT
UID:sabre-vobject-6f30b9e5-3011-473a-9c86-ab9facff1ecc
DTSTAMP:20260420T204846Z
SUMMARY:Ballett für Erwachsene Mittelstufe
DESCRIPTION:https://keb-stadt-augsburg.de/veranstaltungen/ballett-fuer-erwa
 chsene-mittelstufe_id298834
DTSTART;TZID=Europe/Berlin:20260623T184500
DTEND;TZID=Europe/Berlin:20260623T200000
LOCATION:Sportzentrum\, Pfarrer-Bogner-Straße 22\, 86199 Augsburg
END:VEVENT
END:VCALENDAR
