BEGIN:VCALENDAR
VERSION:2.0
PRODID:-//Sabre//Sabre VObject 4.5.8//EN
CALSCALE:GREGORIAN
BEGIN:VEVENT
UID:sabre-vobject-63d90f9c-24c6-47a6-ad9b-e36d0d85c859
DTSTAMP:20260421T184442Z
SUMMARY:Ballett für Erwachsene Anfänger
DESCRIPTION:https://keb-stadt-augsburg.de/veranstaltungen/ballett-fuer-erwa
 chsene-anfaenger_id298789
DTSTART;TZID=Europe/Berlin:20260819T181500
DTEND;TZID=Europe/Berlin:20260819T193000
LOCATION:Sportzentrum\, Pfarrer-Bogner-Straße 22\, 86199 Augsburg
END:VEVENT
END:VCALENDAR
