BEGIN:VCALENDAR
VERSION:2.0
PRODID:-//Sabre//Sabre VObject 4.5.8//EN
CALSCALE:GREGORIAN
BEGIN:VEVENT
UID:sabre-vobject-c8a8e1a5-7642-4ebc-b90f-2103cb24ef14
DTSTAMP:20260421T135909Z
SUMMARY:Ballett für Erwachsene Anfänger
DESCRIPTION:https://keb-stadt-augsburg.de/veranstaltungen/ballett-fuer-erwa
 chsene-anfaenger_id298787
DTSTART;TZID=Europe/Berlin:20260805T181500
DTEND;TZID=Europe/Berlin:20260805T193000
LOCATION:Sportzentrum\, Pfarrer-Bogner-Straße 22\, 86199 Augsburg
END:VEVENT
END:VCALENDAR
