BEGIN:VCALENDAR
VERSION:2.0
PRODID:-//Sabre//Sabre VObject 4.5.8//EN
CALSCALE:GREGORIAN
BEGIN:VEVENT
UID:sabre-vobject-7f827a0b-fbe8-4069-b6e7-f1e05ff33c10
DTSTAMP:20260421T034833Z
SUMMARY:Ballett für Erwachsene Anfänger
DESCRIPTION:https://keb-stadt-augsburg.de/veranstaltungen/ballett-fuer-erwa
 chsene-anfaenger_id298783
DTSTART;TZID=Europe/Berlin:20260708T181500
DTEND;TZID=Europe/Berlin:20260708T193000
LOCATION:Sportzentrum\, Pfarrer-Bogner-Straße 22\, 86199 Augsburg
END:VEVENT
END:VCALENDAR
