BEGIN:VCALENDAR
VERSION:2.0
PRODID:-//Sabre//Sabre VObject 4.5.8//EN
CALSCALE:GREGORIAN
BEGIN:VEVENT
UID:sabre-vobject-43491722-333d-45e9-9cfb-88cb4959da80
DTSTAMP:20260420T144209Z
SUMMARY:Ballett für Erwachsene Anfänger
DESCRIPTION:https://keb-stadt-augsburg.de/veranstaltungen/ballett-fuer-erwa
 chsene-anfaenger_id298778
DTSTART;TZID=Europe/Berlin:20260603T181500
DTEND;TZID=Europe/Berlin:20260603T193000
LOCATION:Sportzentrum\, Pfarrer-Bogner-Straße 22\, 86199 Augsburg
END:VEVENT
END:VCALENDAR
