BEGIN:VCALENDAR
VERSION:2.0
PRODID:-//Sabre//Sabre VObject 4.5.8//EN
CALSCALE:GREGORIAN
BEGIN:VEVENT
UID:sabre-vobject-a9b0214c-881f-4d7a-84e0-45b32af5f58a
DTSTAMP:20260420T024847Z
SUMMARY:Ballett für Erwachsene Anfänger
DESCRIPTION:https://keb-stadt-augsburg.de/veranstaltungen/ballett-fuer-erwa
 chsene-anfaenger_id298774
DTSTART;TZID=Europe/Berlin:20260506T181500
DTEND;TZID=Europe/Berlin:20260506T193000
LOCATION:Sportzentrum\, Pfarrer-Bogner-Straße 22\, 86199 Augsburg
END:VEVENT
END:VCALENDAR
