BEGIN:VCALENDAR
VERSION:2.0
PRODID:-//Sabre//Sabre VObject 4.5.8//EN
CALSCALE:GREGORIAN
BEGIN:VEVENT
UID:sabre-vobject-9cf7650c-0d98-40d0-bf6d-a8ab87f29a5c
DTSTAMP:20260422T004717Z
SUMMARY:Herzsport Plus
DESCRIPTION:https://keb-stadt-augsburg.de/veranstaltungen/herzsport-plus_id
 298738
DTSTART;TZID=Europe/Berlin:20260902T184500
DTEND;TZID=Europe/Berlin:20260902T194500
LOCATION:Sportzentrum\, Pfarrer-Bogner-Straße 22\, 86199 Augsburg
END:VEVENT
END:VCALENDAR
