BEGIN:VCALENDAR
VERSION:2.0
PRODID:-//Sabre//Sabre VObject 4.5.8//EN
CALSCALE:GREGORIAN
BEGIN:VEVENT
UID:sabre-vobject-8b08c05f-eae7-4ced-9d1d-bdebf156ec56
DTSTAMP:20260421T135939Z
SUMMARY:Herzsport Plus
DESCRIPTION:https://keb-stadt-augsburg.de/veranstaltungen/herzsport-plus_id
 298734
DTSTART;TZID=Europe/Berlin:20260805T184500
DTEND;TZID=Europe/Berlin:20260805T194500
LOCATION:Sportzentrum\, Pfarrer-Bogner-Straße 22\, 86199 Augsburg
END:VEVENT
END:VCALENDAR
