BEGIN:VCALENDAR
VERSION:2.0
PRODID:-//Sabre//Sabre VObject 4.5.8//EN
CALSCALE:GREGORIAN
BEGIN:VEVENT
UID:sabre-vobject-1f6ebe88-e4c6-4cd5-a315-8f27bf32cece
DTSTAMP:20260423T091148Z
SUMMARY:Herzsport Plus
DESCRIPTION:https://keb-stadt-augsburg.de/veranstaltungen/herzsport-plus_id
 298732
DTSTART;TZID=Europe/Berlin:20260722T184500
DTEND;TZID=Europe/Berlin:20260722T194500
LOCATION:Sportzentrum\, Pfarrer-Bogner-Straße 22\, 86199 Augsburg
END:VEVENT
END:VCALENDAR
