BEGIN:VCALENDAR
VERSION:2.0
PRODID:-//Sabre//Sabre VObject 4.5.8//EN
CALSCALE:GREGORIAN
BEGIN:VEVENT
UID:sabre-vobject-6a446fb2-cf42-41dd-91ca-699e3b0c20d1
DTSTAMP:20260421T002652Z
SUMMARY:Herzsport Plus
DESCRIPTION:https://keb-stadt-augsburg.de/veranstaltungen/herzsport-plus_id
 298729
DTSTART;TZID=Europe/Berlin:20260701T184500
DTEND;TZID=Europe/Berlin:20260701T194500
LOCATION:Sportzentrum\, Pfarrer-Bogner-Straße 22\, 86199 Augsburg
END:VEVENT
END:VCALENDAR
