BEGIN:VCALENDAR
VERSION:2.0
PRODID:-//Sabre//Sabre VObject 4.5.8//EN
CALSCALE:GREGORIAN
BEGIN:VEVENT
UID:sabre-vobject-6ab4e079-b6b0-4ec6-a950-315f303b5f03
DTSTAMP:20260420T223343Z
SUMMARY:Herzsport Plus
DESCRIPTION:https://keb-stadt-augsburg.de/veranstaltungen/herzsport-plus_id
 298728
DTSTART;TZID=Europe/Berlin:20260624T184500
DTEND;TZID=Europe/Berlin:20260624T194500
LOCATION:Sportzentrum\, Pfarrer-Bogner-Straße 22\, 86199 Augsburg
END:VEVENT
END:VCALENDAR
