BEGIN:VCALENDAR
VERSION:2.0
PRODID:-//Sabre//Sabre VObject 4.5.8//EN
CALSCALE:GREGORIAN
BEGIN:VEVENT
UID:sabre-vobject-f76363c7-b7a2-4f65-9d1e-0bc3bed85967
DTSTAMP:20260422T023012Z
SUMMARY:Herzsport
DESCRIPTION:https://keb-stadt-augsburg.de/veranstaltungen/herzsport_id29868
 6
DTSTART;TZID=Europe/Berlin:20260909T173000
DTEND;TZID=Europe/Berlin:20260909T183000
LOCATION:Sportzentrum\, Pfarrer-Bogner-Straße 22\, 86199 Augsburg
END:VEVENT
END:VCALENDAR
