BEGIN:VCALENDAR
VERSION:2.0
PRODID:-//Sabre//Sabre VObject 4.5.8//EN
CALSCALE:GREGORIAN
BEGIN:VEVENT
UID:sabre-vobject-6cf9d444-8871-4bc0-9566-5dcfc7e6a0f2
DTSTAMP:20260422T005935Z
SUMMARY:Herzsport
DESCRIPTION:https://keb-stadt-augsburg.de/veranstaltungen/herzsport_id29868
 5
DTSTART;TZID=Europe/Berlin:20260902T173000
DTEND;TZID=Europe/Berlin:20260902T183000
LOCATION:Sportzentrum\, Pfarrer-Bogner-Straße 22\, 86199 Augsburg
END:VEVENT
END:VCALENDAR
