BEGIN:VCALENDAR
VERSION:2.0
PRODID:-//Sabre//Sabre VObject 4.5.8//EN
CALSCALE:GREGORIAN
BEGIN:VEVENT
UID:sabre-vobject-8caa3bcb-a86c-4c85-aa9a-73d3d1113b88
DTSTAMP:20260421T212716Z
SUMMARY:Herzsport
DESCRIPTION:https://keb-stadt-augsburg.de/veranstaltungen/herzsport_id29868
 4
DTSTART;TZID=Europe/Berlin:20260826T173000
DTEND;TZID=Europe/Berlin:20260826T183000
LOCATION:Sportzentrum\, Pfarrer-Bogner-Straße 22\, 86199 Augsburg
END:VEVENT
END:VCALENDAR
