BEGIN:VCALENDAR
VERSION:2.0
PRODID:-//Sabre//Sabre VObject 4.5.8//EN
CALSCALE:GREGORIAN
BEGIN:VEVENT
UID:sabre-vobject-58d4cfc8-dd26-479f-b47f-732b56983262
DTSTAMP:20260421T171839Z
SUMMARY:Herzsport
DESCRIPTION:https://keb-stadt-augsburg.de/veranstaltungen/herzsport_id29868
 2
DTSTART;TZID=Europe/Berlin:20260812T173000
DTEND;TZID=Europe/Berlin:20260812T183000
LOCATION:Sportzentrum\, Pfarrer-Bogner-Straße 22\, 86199 Augsburg
END:VEVENT
END:VCALENDAR
