BEGIN:VCALENDAR
VERSION:2.0
PRODID:-//Sabre//Sabre VObject 4.5.8//EN
CALSCALE:GREGORIAN
BEGIN:VEVENT
UID:sabre-vobject-da097643-e219-4610-a281-2632f3e73294
DTSTAMP:20260421T104518Z
SUMMARY:Herzsport
DESCRIPTION:https://keb-stadt-augsburg.de/veranstaltungen/herzsport_id29868
 0
DTSTART;TZID=Europe/Berlin:20260729T173000
DTEND;TZID=Europe/Berlin:20260729T183000
LOCATION:Sportzentrum\, Pfarrer-Bogner-Straße 22\, 86199 Augsburg
END:VEVENT
END:VCALENDAR
