BEGIN:VCALENDAR
VERSION:2.0
PRODID:-//Sabre//Sabre VObject 4.5.8//EN
CALSCALE:GREGORIAN
BEGIN:VEVENT
UID:sabre-vobject-ae47bc5f-b30d-47a9-8d4c-af625deb4d99
DTSTAMP:20260421T033720Z
SUMMARY:Herzsport
DESCRIPTION:https://keb-stadt-augsburg.de/veranstaltungen/herzsport_id29867
 7
DTSTART;TZID=Europe/Berlin:20260708T173000
DTEND;TZID=Europe/Berlin:20260708T183000
LOCATION:Sportzentrum\, Pfarrer-Bogner-Straße 22\, 86199 Augsburg
END:VEVENT
END:VCALENDAR
