BEGIN:VCALENDAR
VERSION:2.0
PRODID:-//Sabre//Sabre VObject 4.5.8//EN
CALSCALE:GREGORIAN
BEGIN:VEVENT
UID:sabre-vobject-e512c5b3-96b0-44ee-a488-804a70bef20f
DTSTAMP:20260420T190653Z
SUMMARY:Herzsport
DESCRIPTION:https://keb-stadt-augsburg.de/veranstaltungen/herzsport_id29867
 4
DTSTART;TZID=Europe/Berlin:20260617T173000
DTEND;TZID=Europe/Berlin:20260617T183000
LOCATION:Sportzentrum\, Pfarrer-Bogner-Straße 22\, 86199 Augsburg
END:VEVENT
END:VCALENDAR
