BEGIN:VCALENDAR
VERSION:2.0
PRODID:-//Sabre//Sabre VObject 4.5.8//EN
CALSCALE:GREGORIAN
BEGIN:VEVENT
UID:sabre-vobject-86beea66-3580-45ed-9422-8c49817e37ca
DTSTAMP:20260420T024847Z
SUMMARY:Herzsport
DESCRIPTION:https://keb-stadt-augsburg.de/veranstaltungen/herzsport_id29866
 8
DTSTART;TZID=Europe/Berlin:20260506T173000
DTEND;TZID=Europe/Berlin:20260506T183000
LOCATION:Sportzentrum\, Pfarrer-Bogner-Straße 22\, 86199 Augsburg
END:VEVENT
END:VCALENDAR
