BEGIN:VCALENDAR
VERSION:2.0
PRODID:-//Sabre//Sabre VObject 4.5.8//EN
CALSCALE:GREGORIAN
BEGIN:VEVENT
UID:sabre-vobject-010f67a7-7d7f-438f-8ad4-849d75d52b53
DTSTAMP:20260421T201747Z
SUMMARY:Starker Rücken
DESCRIPTION:https://keb-stadt-augsburg.de/veranstaltungen/starker-ruecken_i
 d298631
DTSTART;TZID=Europe/Berlin:20260820T170000
DTEND;TZID=Europe/Berlin:20260820T180000
LOCATION:Sportzentrum\, Pfarrer-Bogner-Straße 22\, 86199 Augsburg
END:VEVENT
END:VCALENDAR
