BEGIN:VCALENDAR
VERSION:2.0
PRODID:-//Sabre//Sabre VObject 4.5.8//EN
CALSCALE:GREGORIAN
BEGIN:VEVENT
UID:sabre-vobject-64b43ee6-6d53-44c1-8eed-8c8fbf511469
DTSTAMP:20260421T165924Z
SUMMARY:Starker Rücken
DESCRIPTION:https://keb-stadt-augsburg.de/veranstaltungen/starker-ruecken_i
 d298630
DTSTART;TZID=Europe/Berlin:20260813T170000
DTEND;TZID=Europe/Berlin:20260813T180000
LOCATION:Sportzentrum\, Pfarrer-Bogner-Straße 22\, 86199 Augsburg
END:VEVENT
END:VCALENDAR
