BEGIN:VCALENDAR
VERSION:2.0
PRODID:-//Sabre//Sabre VObject 4.5.8//EN
CALSCALE:GREGORIAN
BEGIN:VEVENT
UID:sabre-vobject-02c83b9a-fa10-451f-939e-90f84fa3dbea
DTSTAMP:20260421T071749Z
SUMMARY:Starker Rücken
DESCRIPTION:https://keb-stadt-augsburg.de/veranstaltungen/starker-ruecken_i
 d298626
DTSTART;TZID=Europe/Berlin:20260716T170000
DTEND;TZID=Europe/Berlin:20260716T180000
LOCATION:Sportzentrum\, Pfarrer-Bogner-Straße 22\, 86199 Augsburg
END:VEVENT
END:VCALENDAR
