BEGIN:VCALENDAR
VERSION:2.0
PRODID:-//Sabre//Sabre VObject 4.5.8//EN
CALSCALE:GREGORIAN
BEGIN:VEVENT
UID:sabre-vobject-82448d53-4bb9-4b8d-ba50-162a2c12068e
DTSTAMP:20260421T033853Z
SUMMARY:Starker Rücken
DESCRIPTION:https://keb-stadt-augsburg.de/veranstaltungen/starker-ruecken_i
 d298625
DTSTART;TZID=Europe/Berlin:20260709T170000
DTEND;TZID=Europe/Berlin:20260709T180000
LOCATION:Sportzentrum\, Pfarrer-Bogner-Straße 22\, 86199 Augsburg
END:VEVENT
END:VCALENDAR
