BEGIN:VCALENDAR
VERSION:2.0
PRODID:-//Sabre//Sabre VObject 4.5.8//EN
CALSCALE:GREGORIAN
BEGIN:VEVENT
UID:sabre-vobject-e95b7590-9bc3-4a2d-a453-2fabf30c2b38
DTSTAMP:20260420T143734Z
SUMMARY:Starker Rücken
DESCRIPTION:https://keb-stadt-augsburg.de/veranstaltungen/starker-ruecken_i
 d298620
DTSTART;TZID=Europe/Berlin:20260604T170000
DTEND;TZID=Europe/Berlin:20260604T180000
LOCATION:Sportzentrum\, Pfarrer-Bogner-Straße 22\, 86199 Augsburg
END:VEVENT
END:VCALENDAR
