BEGIN:VCALENDAR
VERSION:2.0
PRODID:-//Sabre//Sabre VObject 4.5.8//EN
CALSCALE:GREGORIAN
BEGIN:VEVENT
UID:sabre-vobject-f237a01b-9c98-4f5c-8062-9afc8fcb246d
DTSTAMP:20260421T021633Z
SUMMARY:Training: Round Dance für Paare
DESCRIPTION:https://keb-stadt-augsburg.de/veranstaltungen/training-round-da
 nce-fuer-paare_id298571
DTSTART;TZID=Europe/Berlin:20260706T193000
DTEND;TZID=Europe/Berlin:20260706T220000
LOCATION:Sportzentrum\, Pfarrer-Bogner-Straße 22\, 86199 Augsburg
END:VEVENT
END:VCALENDAR
