BEGIN:VCALENDAR
VERSION:2.0
PRODID:-//Sabre//Sabre VObject 4.5.8//EN
CALSCALE:GREGORIAN
BEGIN:VEVENT
UID:sabre-vobject-c1d4198e-f5ee-4c1b-b942-91142c1d4667
DTSTAMP:20260421T002539Z
SUMMARY:Training: Round Dance für Paare
DESCRIPTION:https://keb-stadt-augsburg.de/veranstaltungen/training-round-da
 nce-fuer-paare_id298570
DTSTART;TZID=Europe/Berlin:20260629T193000
DTEND;TZID=Europe/Berlin:20260629T220000
LOCATION:Sportzentrum\, Pfarrer-Bogner-Straße 22\, 86199 Augsburg
END:VEVENT
END:VCALENDAR
