BEGIN:VCALENDAR
VERSION:2.0
PRODID:-//Sabre//Sabre VObject 4.5.8//EN
CALSCALE:GREGORIAN
BEGIN:VEVENT
UID:sabre-vobject-fbca30d9-e627-4666-8ae2-11e03e57e351
DTSTAMP:20260420T205603Z
SUMMARY:Training: Round Dance für Paare
DESCRIPTION:https://keb-stadt-augsburg.de/veranstaltungen/training-round-da
 nce-fuer-paare_id298569
DTSTART;TZID=Europe/Berlin:20260622T193000
DTEND;TZID=Europe/Berlin:20260622T220000
LOCATION:Sportzentrum\, Pfarrer-Bogner-Straße 22\, 86199 Augsburg
END:VEVENT
END:VCALENDAR
