BEGIN:VCALENDAR
VERSION:2.0
PRODID:-//Sabre//Sabre VObject 4.5.8//EN
CALSCALE:GREGORIAN
BEGIN:VEVENT
UID:sabre-vobject-6ae3dcce-1b31-4aed-a913-3fbd0357dc38
DTSTAMP:20260420T173151Z
SUMMARY:Training: Round Dance für Paare
DESCRIPTION:https://keb-stadt-augsburg.de/veranstaltungen/training-round-da
 nce-fuer-paare_id298568
DTSTART;TZID=Europe/Berlin:20260615T193000
DTEND;TZID=Europe/Berlin:20260615T220000
LOCATION:Sportzentrum\, Pfarrer-Bogner-Straße 22\, 86199 Augsburg
END:VEVENT
END:VCALENDAR
