BEGIN:VCALENDAR
VERSION:2.0
PRODID:-//Sabre//Sabre VObject 4.5.8//EN
CALSCALE:GREGORIAN
BEGIN:VEVENT
UID:sabre-vobject-c36dcf91-ced9-4900-90dc-eed0ba4488c0
DTSTAMP:20260420T174336Z
SUMMARY:Training: Round Dance für Paare
DESCRIPTION:https://keb-stadt-augsburg.de/veranstaltungen/training-round-da
 nce-fuer-paare_id298567
DTSTART;TZID=Europe/Berlin:20260608T193000
DTEND;TZID=Europe/Berlin:20260608T220000
LOCATION:Sportzentrum\, Pfarrer-Bogner-Straße 22\, 86199 Augsburg
END:VEVENT
END:VCALENDAR
