BEGIN:VCALENDAR
VERSION:2.0
PRODID:-//Sabre//Sabre VObject 4.5.8//EN
CALSCALE:GREGORIAN
BEGIN:VEVENT
UID:sabre-vobject-b5239004-a307-4971-9cc1-8e3dab94f4dd
DTSTAMP:20260421T135913Z
SUMMARY:Bewegung für Senioren
DESCRIPTION:https://keb-stadt-augsburg.de/veranstaltungen/bewegung-fuer-sen
 ioren_id298522
DTSTART;TZID=Europe/Berlin:20260805T140000
DTEND;TZID=Europe/Berlin:20260805T150000
LOCATION:Sportzentrum\, Pfarrer-Bogner-Straße 22\, 86199 Augsburg
END:VEVENT
END:VCALENDAR
