BEGIN:VCALENDAR
VERSION:2.0
PRODID:-//Sabre//Sabre VObject 4.5.8//EN
CALSCALE:GREGORIAN
BEGIN:VEVENT
UID:sabre-vobject-815046c5-8413-4638-a801-f643d5a7ebba
DTSTAMP:20260421T052447Z
SUMMARY:Bewegung für Senioren
DESCRIPTION:https://keb-stadt-augsburg.de/veranstaltungen/bewegung-fuer-sen
 ioren_id298519
DTSTART;TZID=Europe/Berlin:20260715T140000
DTEND;TZID=Europe/Berlin:20260715T150000
LOCATION:Sportzentrum\, Pfarrer-Bogner-Straße 22\, 86199 Augsburg
END:VEVENT
END:VCALENDAR
