BEGIN:VCALENDAR
VERSION:2.0
PRODID:-//Sabre//Sabre VObject 4.5.8//EN
CALSCALE:GREGORIAN
BEGIN:VEVENT
UID:sabre-vobject-bfcb0491-6a17-4b68-89c0-b2779b3f132a
DTSTAMP:20260420T144316Z
SUMMARY:Bewegung für Senioren
DESCRIPTION:https://keb-stadt-augsburg.de/veranstaltungen/bewegung-fuer-sen
 ioren_id298513
DTSTART;TZID=Europe/Berlin:20260603T140000
DTEND;TZID=Europe/Berlin:20260603T150000
LOCATION:Sportzentrum\, Pfarrer-Bogner-Straße 22\, 86199 Augsburg
END:VEVENT
END:VCALENDAR
