BEGIN:VCALENDAR
VERSION:2.0
PRODID:-//Sabre//Sabre VObject 4.5.8//EN
CALSCALE:GREGORIAN
BEGIN:VEVENT
UID:sabre-vobject-62453649-5876-405e-8a96-4067bacac182
DTSTAMP:20260420T024938Z
SUMMARY:Bewegung für Senioren
DESCRIPTION:https://keb-stadt-augsburg.de/veranstaltungen/bewegung-fuer-sen
 ioren_id298509
DTSTART;TZID=Europe/Berlin:20260506T140000
DTEND;TZID=Europe/Berlin:20260506T150000
LOCATION:Sportzentrum\, Pfarrer-Bogner-Straße 22\, 86199 Augsburg
END:VEVENT
END:VCALENDAR
