BEGIN:VCALENDAR
VERSION:2.0
PRODID:-//Sabre//Sabre VObject 4.5.8//EN
CALSCALE:GREGORIAN
BEGIN:VEVENT
UID:sabre-vobject-bd93abdd-170d-4100-bca6-5450e4f879c6
DTSTAMP:20260420T044623Z
SUMMARY:Bewegung für Senioren
DESCRIPTION:https://keb-stadt-augsburg.de/veranstaltungen/bewegung-fuer-sen
 ioren_id298507
DTSTART;TZID=Europe/Berlin:20260422T140000
DTEND;TZID=Europe/Berlin:20260422T150000
LOCATION:Sportzentrum\, Pfarrer-Bogner-Straße 22\, 86199 Augsburg
END:VEVENT
END:VCALENDAR
