BEGIN:VCALENDAR
VERSION:2.0
PRODID:-//Sabre//Sabre VObject 4.5.8//EN
CALSCALE:GREGORIAN
BEGIN:VEVENT
UID:sabre-vobject-d9db9e02-4e6b-4ad3-8d1a-78affd0c0338
DTSTAMP:20260421T090249Z
SUMMARY:Mutter-Vater-Kind-Gruppe am Mittwoch
DESCRIPTION:https://keb-stadt-augsburg.de/veranstaltungen/mutter-vater-kind
 -gruppe-am-mittwoch_id298467
DTSTART;TZID=Europe/Berlin:20260527T090000
DTEND;TZID=Europe/Berlin:20260527T110000
LOCATION:Pfarrheim\, Kolbergstraße 1\, 86167 Augsburg
END:VEVENT
END:VCALENDAR
