BEGIN:VCALENDAR
VERSION:2.0
PRODID:-//Sabre//Sabre VObject 4.5.8//EN
CALSCALE:GREGORIAN
BEGIN:VEVENT
UID:sabre-vobject-82f271df-c040-43d7-8e34-b2fbe2f91380
DTSTAMP:20260421T171904Z
SUMMARY:Power Gymnastik
DESCRIPTION:https://keb-stadt-augsburg.de/veranstaltungen/power-gymnastik_i
 d298427
DTSTART;TZID=Europe/Berlin:20260813T190000
DTEND;TZID=Europe/Berlin:20260813T200000
LOCATION:Sportzentrum\, Pfarrer-Bogner-Straße 22\, 86199 Augsburg
END:VEVENT
END:VCALENDAR
