BEGIN:VCALENDAR
VERSION:2.0
PRODID:-//Sabre//Sabre VObject 4.5.8//EN
CALSCALE:GREGORIAN
BEGIN:VEVENT
UID:sabre-vobject-337f6e59-6dd0-4463-8394-a69d98fef8ad
DTSTAMP:20260421T033853Z
SUMMARY:Power Gymnastik
DESCRIPTION:https://keb-stadt-augsburg.de/veranstaltungen/power-gymnastik_i
 d298422
DTSTART;TZID=Europe/Berlin:20260709T190000
DTEND;TZID=Europe/Berlin:20260709T200000
LOCATION:Sportzentrum\, Pfarrer-Bogner-Straße 22\, 86199 Augsburg
END:VEVENT
END:VCALENDAR
