BEGIN:VCALENDAR
VERSION:2.0
PRODID:-//Sabre//Sabre VObject 4.5.8//EN
CALSCALE:GREGORIAN
BEGIN:VEVENT
UID:sabre-vobject-62c87042-eff3-4a9c-a5fa-f9c1270d12e9
DTSTAMP:20260421T021008Z
SUMMARY:Power Gymnastik
DESCRIPTION:https://keb-stadt-augsburg.de/veranstaltungen/power-gymnastik_i
 d298421
DTSTART;TZID=Europe/Berlin:20260702T190000
DTEND;TZID=Europe/Berlin:20260702T200000
LOCATION:Sportzentrum\, Pfarrer-Bogner-Straße 22\, 86199 Augsburg
END:VEVENT
END:VCALENDAR
