BEGIN:VCALENDAR
VERSION:2.0
PRODID:-//Sabre//Sabre VObject 4.5.8//EN
CALSCALE:GREGORIAN
BEGIN:VEVENT
UID:sabre-vobject-431e546e-c204-40b1-a24c-d76813c2dff1
DTSTAMP:20260420T223258Z
SUMMARY:Power Gymnastik
DESCRIPTION:https://keb-stadt-augsburg.de/veranstaltungen/power-gymnastik_i
 d298420
DTSTART;TZID=Europe/Berlin:20260625T190000
DTEND;TZID=Europe/Berlin:20260625T200000
LOCATION:Sportzentrum\, Pfarrer-Bogner-Straße 22\, 86199 Augsburg
END:VEVENT
END:VCALENDAR
