BEGIN:VCALENDAR
VERSION:2.0
PRODID:-//Sabre//Sabre VObject 4.5.8//EN
CALSCALE:GREGORIAN
BEGIN:VEVENT
UID:sabre-vobject-e24e0e65-b14e-4d7c-918a-bedc68220f12
DTSTAMP:20260420T143734Z
SUMMARY:Power Gymnastik
DESCRIPTION:https://keb-stadt-augsburg.de/veranstaltungen/power-gymnastik_i
 d298417
DTSTART;TZID=Europe/Berlin:20260604T190000
DTEND;TZID=Europe/Berlin:20260604T200000
LOCATION:Sportzentrum\, Pfarrer-Bogner-Straße 22\, 86199 Augsburg
END:VEVENT
END:VCALENDAR
