BEGIN:VCALENDAR
VERSION:2.0
PRODID:-//Sabre//Sabre VObject 4.5.8//EN
CALSCALE:GREGORIAN
BEGIN:VEVENT
UID:sabre-vobject-805eb3aa-3f6f-4271-ad26-1133f722e929
DTSTAMP:20260421T121908Z
SUMMARY:Gymnastik bei orthopädischen Problemen-Gruppe 1
DESCRIPTION:https://keb-stadt-augsburg.de/veranstaltungen/gymnastik-bei-ort
 hopaedischen-problemen-gruppe-1_id298372
DTSTART;TZID=Europe/Berlin:20260803T071500
DTEND;TZID=Europe/Berlin:20260803T080000
LOCATION:Sportzentrum\, Pfarrer-Bogner-Straße 22\, 86199 Augsburg
END:VEVENT
END:VCALENDAR
