BEGIN:VCALENDAR
VERSION:2.0
PRODID:-//Sabre//Sabre VObject 4.5.8//EN
CALSCALE:GREGORIAN
BEGIN:VEVENT
UID:sabre-vobject-05be0ce1-dcfa-4284-815a-54f42347e170
DTSTAMP:20260421T071841Z
SUMMARY:Gymnastik bei orthopädischen Problemen-Gruppe 1
DESCRIPTION:https://keb-stadt-augsburg.de/veranstaltungen/gymnastik-bei-ort
 hopaedischen-problemen-gruppe-1_id298370
DTSTART;TZID=Europe/Berlin:20260720T071500
DTEND;TZID=Europe/Berlin:20260720T080000
LOCATION:Sportzentrum\, Pfarrer-Bogner-Straße 22\, 86199 Augsburg
END:VEVENT
END:VCALENDAR
