BEGIN:VCALENDAR
VERSION:2.0
PRODID:-//Sabre//Sabre VObject 4.5.8//EN
CALSCALE:GREGORIAN
BEGIN:VEVENT
UID:sabre-vobject-d53c08c7-812c-4936-a562-cc888c2d7393
DTSTAMP:20260421T033848Z
SUMMARY:Gymnastik bei orthopädischen Problemen-Gruppe 1
DESCRIPTION:https://keb-stadt-augsburg.de/veranstaltungen/gymnastik-bei-ort
 hopaedischen-problemen-gruppe-1_id298369
DTSTART;TZID=Europe/Berlin:20260713T071500
DTEND;TZID=Europe/Berlin:20260713T080000
LOCATION:Sportzentrum\, Pfarrer-Bogner-Straße 22\, 86199 Augsburg
END:VEVENT
END:VCALENDAR
