BEGIN:VCALENDAR
VERSION:2.0
PRODID:-//Sabre//Sabre VObject 4.5.8//EN
CALSCALE:GREGORIAN
BEGIN:VEVENT
UID:sabre-vobject-4052b4fd-7bc2-4c62-8bf4-375f650dddce
DTSTAMP:20260420T111055Z
SUMMARY:Gymnastik bei orthopädischen Problemen-Gruppe 1
DESCRIPTION:https://keb-stadt-augsburg.de/veranstaltungen/gymnastik-bei-ort
 hopaedischen-problemen-gruppe-1_id298362
DTSTART;TZID=Europe/Berlin:20260525T071500
DTEND;TZID=Europe/Berlin:20260525T080000
LOCATION:Sportzentrum\, Pfarrer-Bogner-Straße 22\, 86199 Augsburg
END:VEVENT
END:VCALENDAR
