BEGIN:VCALENDAR
VERSION:2.0
PRODID:-//Sabre//Sabre VObject 4.5.8//EN
CALSCALE:GREGORIAN
BEGIN:VEVENT
UID:sabre-vobject-fec9e40a-534f-434f-8f41-22fe0219b090
DTSTAMP:20260421T130752Z
SUMMARY:Gymnastik bei orthopädischen Problemen-Gruppe 1
DESCRIPTION:https://keb-stadt-augsburg.de/veranstaltungen/gymnastik-bei-ort
 hopaedischen-problemen-gruppe-1_id298357
DTSTART;TZID=Europe/Berlin:20260420T071500
DTEND;TZID=Europe/Berlin:20260420T080000
LOCATION:Sportzentrum\, Pfarrer-Bogner-Straße 22\, 86199 Augsburg
END:VEVENT
END:VCALENDAR
