BEGIN:VCALENDAR
VERSION:2.0
PRODID:-//Sabre//Sabre VObject 4.5.8//EN
CALSCALE:GREGORIAN
BEGIN:VEVENT
UID:sabre-vobject-ad976049-b8fd-4160-84a0-cf229690c9b5
DTSTAMP:20260424T133120Z
SUMMARY:Digitale Infoveranstaltung zu Elterngeld\, Elternzeit & Co.
DESCRIPTION:https://keb-stadt-augsburg.de/veranstaltungen/digitale-infovera
 nstaltung-zu-elterngeld-elternzeit-co_id259174
DTSTART;TZID=Europe/Berlin:20250909T173000
DTEND;TZID=Europe/Berlin:20250909T190000
LOCATION:Online
END:VEVENT
END:VCALENDAR
