BEGIN:VCALENDAR
VERSION:2.0
PRODID:-//Sabre//Sabre VObject 4.5.8//EN
CALSCALE:GREGORIAN
BEGIN:VEVENT
UID:sabre-vobject-867e3dfd-51e9-44f4-bd6b-6ab7fa7f003d
DTSTAMP:20260421T090312Z
SUMMARY:Raus ins Vergnügen!
DESCRIPTION:https://keb-stadt-augsburg.de/veranstaltungen/raus-ins-vergnueg
 en_id256915
DTSTART;TZID=Europe/Berlin:20250704T170000
DTEND;TZID=Europe/Berlin:20250706T130000
LOCATION:Hüttenlager des Jugendtagungshauses Pfünz Diözese Eichstätt\, 
 Waltinger Straße 3\, 85137 Walting
END:VEVENT
END:VCALENDAR
