BEGIN:VCALENDAR
VERSION:2.0
PRODID:-//Sabre//Sabre VObject 4.5.8//EN
CALSCALE:GREGORIAN
BEGIN:VEVENT
UID:sabre-vobject-6c333c85-e2a9-4db3-8f32-f50bb2de08e4
DTSTAMP:20260423T085433Z
SUMMARY:"Wenn ihr fastet\, macht kein finsteres Gesicht"
DESCRIPTION:https://keb-stadt-augsburg.de/veranstaltungen/wenn-ihr-fastet-m
 acht-kein-finsteres-gesicht_id223099
DTSTART;TZID=Europe/Berlin:20240214T143000
LOCATION:Pfarrheim Edith Stein\, Neuburger Straße 274\, 86169 Augsburg
END:VEVENT
END:VCALENDAR
